BEGIN:VCALENDAR
VERSION:2.0
PRODID:-//Powerline Church - ECPv6.2.9//NONSGML v1.0//EN
CALSCALE:GREGORIAN
METHOD:PUBLISH
X-WR-CALNAME:Powerline Church
X-ORIGINAL-URL:https://www.powerlinecc.com
X-WR-CALDESC:Events for Powerline Church
REFRESH-INTERVAL;VALUE=DURATION:PT1H
X-Robots-Tag:noindex
X-PUBLISHED-TTL:PT1H
BEGIN:VTIMEZONE
TZID:America/New_York
BEGIN:DAYLIGHT
TZOFFSETFROM:-0500
TZOFFSETTO:-0400
TZNAME:EDT
DTSTART:20240310T070000
END:DAYLIGHT
BEGIN:STANDARD
TZOFFSETFROM:-0400
TZOFFSETTO:-0500
TZNAME:EST
DTSTART:20241103T060000
END:STANDARD
END:VTIMEZONE
BEGIN:VEVENT
DTSTART;TZID=America/New_York:20240203T180000
DTEND;TZID=America/New_York:20240203T200000
DTSTAMP:20260424T073844
CREATED:20220526T174323Z
LAST-MODIFIED:20220526T174323Z
UID:31775-1706983200-1706990400@www.powerlinecc.com
SUMMARY:Celebration Service
DESCRIPTION:Join us every Saturday for our celebration service! \nLively\, contemporary worship; powerful preaching; and genuine fellowship. Celebrate Christ with us this week and join us for a time of weekly encouragement.
URL:https://www.powerlinecc.com/event/celebration-service-2024-02-03/
LOCATION:Powerline Church\, 730 Upsala Rd\, Sanford\, FL\, 32771\, United States
CATEGORIES:Celebration Service
ATTACH;FMTTYPE=image/jpeg:https://www.powerlinecc.com/wp-content/uploads/2016/04/celebration-service.jpeg
END:VEVENT
BEGIN:VEVENT
DTSTART;TZID=America/New_York:20240210T180000
DTEND;TZID=America/New_York:20240210T200000
DTSTAMP:20260424T073844
CREATED:20220526T174323Z
LAST-MODIFIED:20220526T174323Z
UID:31777-1707588000-1707595200@www.powerlinecc.com
SUMMARY:Celebration Service
DESCRIPTION:Join us every Saturday for our celebration service! \nLively\, contemporary worship; powerful preaching; and genuine fellowship. Celebrate Christ with us this week and join us for a time of weekly encouragement.
URL:https://www.powerlinecc.com/event/celebration-service-2024-02-10/
LOCATION:Powerline Church\, 730 Upsala Rd\, Sanford\, FL\, 32771\, United States
CATEGORIES:Celebration Service
ATTACH;FMTTYPE=image/jpeg:https://www.powerlinecc.com/wp-content/uploads/2016/04/celebration-service.jpeg
END:VEVENT
BEGIN:VEVENT
DTSTART;TZID=America/New_York:20240217T180000
DTEND;TZID=America/New_York:20240217T200000
DTSTAMP:20260424T073844
CREATED:20220526T174323Z
LAST-MODIFIED:20220526T174323Z
UID:31779-1708192800-1708200000@www.powerlinecc.com
SUMMARY:Celebration Service
DESCRIPTION:Join us every Saturday for our celebration service! \nLively\, contemporary worship; powerful preaching; and genuine fellowship. Celebrate Christ with us this week and join us for a time of weekly encouragement.
URL:https://www.powerlinecc.com/event/celebration-service-2024-02-17/
LOCATION:Powerline Church\, 730 Upsala Rd\, Sanford\, FL\, 32771\, United States
CATEGORIES:Celebration Service
ATTACH;FMTTYPE=image/jpeg:https://www.powerlinecc.com/wp-content/uploads/2016/04/celebration-service.jpeg
END:VEVENT
BEGIN:VEVENT
DTSTART;TZID=America/New_York:20240224T180000
DTEND;TZID=America/New_York:20240224T200000
DTSTAMP:20260424T073844
CREATED:20220526T174323Z
LAST-MODIFIED:20220526T174323Z
UID:31781-1708797600-1708804800@www.powerlinecc.com
SUMMARY:Celebration Service
DESCRIPTION:Join us every Saturday for our celebration service! \nLively\, contemporary worship; powerful preaching; and genuine fellowship. Celebrate Christ with us this week and join us for a time of weekly encouragement.
URL:https://www.powerlinecc.com/event/celebration-service-2024-02-24/
LOCATION:Powerline Church\, 730 Upsala Rd\, Sanford\, FL\, 32771\, United States
CATEGORIES:Celebration Service
ATTACH;FMTTYPE=image/jpeg:https://www.powerlinecc.com/wp-content/uploads/2016/04/celebration-service.jpeg
END:VEVENT
END:VCALENDAR